BEGIN:VCALENDAR
VERSION:2.0
PRODID:icalendar-ruby
CALSCALE:GREGORIAN
METHOD:PUBLISH
BEGIN:VEVENT
DTSTAMP:20260422T090632Z
UID:506-1987132@stmatthiasvictoria.ca
DTSTART:20260924T170000Z
DTEND:20260924T180000Z
CLASS:PUBLIC
CREATED:20260421T163511
DESCRIPTION:Join us weekly on Thursday mornings for a small and prayerful s
 haring of communion in the Chapel. All are welcome.  \nThursday morning 
 worship begins at 10am with refreshments to follow at 11am. We use a Celti
 c liturgy from the wonderful book 'Celtic Daily Prayer Book Two\, Farther 
 Up and Farther In.' \nThis is not a ‘Celtic’ service in the sense tha
 t it recreates a Communion Service from the Celtic monastic era\, but it i
 s a service shaped by a Celtic theology. The potential strength of this se
 rvice is its simplicity. It aims to get to the ‘essence’ of this meal 
 that all Christians share. In it\, also\, are echoes of the meal at Emmaus
 \, the Passover Seder meal and the sharing of bread and wine that is part 
 of the ritual binding between brothers\, like David and Jonathan.  \nAll 
 are welcome. \nThursday communion continues on a weekly basis so we invit
 e you to come every week or whenever you can.\nPhoto by Svetlana Sinitsyna
  on Unsplash \n 
LAST-MODIFIED:20260421T163511
LOCATION:St Matthias Chapel
SUMMARY:Thursday Morning Eucharist
URL;VALUE=URI:https://www.stmatthiasvictoria.ca/events/thursday-morning-euc
 harist/2026-09-24
ATTACH;FILENAME=svetlana-sinitsyna-hvTQwMoO-II-unsplash.jpg;FMTTYPE=image/j
 peg:https://dq5pwpg1q8ru0.cloudfront.net/2024/01/30/19/05/58/95dc242e-b49c
 -4721-8eae-fb2073fb45ea/svetlana-sinitsyna-hvTQwMoO-II-unsplash.jpg
END:VEVENT
END:VCALENDAR
