BEGIN:VCALENDAR
VERSION:2.0
PRODID:icalendar-ruby
CALSCALE:GREGORIAN
METHOD:PUBLISH
BEGIN:VEVENT
DTSTAMP:20260423T233732Z
UID:841-1938372@stmatthiasvictoria.ca
DTSTART:20260425T170000Z
DTEND:20260425T210000Z
CLASS:PUBLIC
CREATED:20260415T132049
DESCRIPTION:This year’s Spring Fair will feature plants and garden art\, 
 jewellery\, antiques and collectibles\, crafts and creations\, books\, toy
 s\, home baking\, jams and jellies\, silent auction\, vintage clothing and
  accessories\, white elephant\, Mother's Day gifts\, and more! \nAmple pa
 rking. Wheelchair accessible. 
LAST-MODIFIED:20260415T132049
LOCATION:
SUMMARY:St. Luke's Spring Fair
URL;VALUE=URI:https://www.stmatthiasvictoria.ca/events/st-lukes-spring-fair
 --841/2026-04-25
ATTACH;FILENAME=2026 Spring Fair 1500x784.JPG;FMTTYPE=image/jpeg:https://dq
 5pwpg1q8ru0.cloudfront.net/2026/04/15/17/37/57/a48d8192-6e63-4eb9-966d-005
 e2372ba9f/2026%20Spring%20Fair%201500x784.JPG
ATTACH;FILENAME=2026 Spring Fair Poster.pdf;FMTTYPE=application/pdf:https:/
 /dq5pwpg1q8ru0.cloudfront.net/2026/04/15/17/37/57/4fb087dd-fe79-4410-9d71-
 e7a030c32891/2026%20Spring%20Fair%20Poster.pdf
END:VEVENT
END:VCALENDAR
