BEGIN:VCALENDAR
VERSION:2.0
PRODID:icalendar-ruby
CALSCALE:GREGORIAN
METHOD:PUBLISH
BEGIN:VEVENT
DTSTAMP:20260422T014605Z
UID:787-1987667@stmatthiasvictoria.ca
DTSTART:20261027T170000Z
DTEND:20261027T180000Z
CLASS:PUBLIC
CREATED:20260421T163512
DESCRIPTION:On Tuesday mornings\, elders gather at Church of the Cross for 
 conversation and sharing about current events over hot coffee\, tea\, and 
 homemade cookies. Whether you are a member of the church or wider communit
 y\, we invite you to join! 
LAST-MODIFIED:20260421T163512
LOCATION:Rotunda & Zoom Meeting
SUMMARY:Perk Me Up
URL;VALUE=URI:https://www.stmatthiasvictoria.ca/events/perk-me-up/2026-10-2
 7
ATTACH;FILENAME=Perk-Me-Up.png;FMTTYPE=image/png:https://dq5pwpg1q8ru0.clou
 dfront.net/2025/09/18/03/59/09/51575667-db41-4cd4-9f63-1b7133e46c70/Perk-M
 e-Up.png
END:VEVENT
END:VCALENDAR
